BEGIN:VCALENDAR
VERSION:2.0
PRODID:-//Central Maryland Beekeepers Association - ECPv6.15.20//NONSGML v1.0//EN
CALSCALE:GREGORIAN
METHOD:PUBLISH
X-ORIGINAL-URL:https://www.centralmarylandbees.org
X-WR-CALDESC:Events for Central Maryland Beekeepers Association
REFRESH-INTERVAL;VALUE=DURATION:PT1H
X-Robots-Tag:noindex
X-PUBLISHED-TTL:PT1H
BEGIN:VTIMEZONE
TZID:America/New_York
BEGIN:DAYLIGHT
TZOFFSETFROM:-0500
TZOFFSETTO:-0400
TZNAME:EDT
DTSTART:20240310T070000
END:DAYLIGHT
BEGIN:STANDARD
TZOFFSETFROM:-0400
TZOFFSETTO:-0500
TZNAME:EST
DTSTART:20241103T060000
END:STANDARD
BEGIN:DAYLIGHT
TZOFFSETFROM:-0500
TZOFFSETTO:-0400
TZNAME:EDT
DTSTART:20250309T070000
END:DAYLIGHT
BEGIN:STANDARD
TZOFFSETFROM:-0400
TZOFFSETTO:-0500
TZNAME:EST
DTSTART:20251102T060000
END:STANDARD
BEGIN:DAYLIGHT
TZOFFSETFROM:-0500
TZOFFSETTO:-0400
TZNAME:EDT
DTSTART:20260308T070000
END:DAYLIGHT
BEGIN:STANDARD
TZOFFSETFROM:-0400
TZOFFSETTO:-0500
TZNAME:EST
DTSTART:20261101T060000
END:STANDARD
END:VTIMEZONE
BEGIN:VEVENT
DTSTART;TZID=America/New_York:20250308T100000
DTEND;TZID=America/New_York:20250308T140000
DTSTAMP:20260421T103827
CREATED:20250304T202648Z
LAST-MODIFIED:20250304T202657Z
UID:10000372-1741428000-1741442400@www.centralmarylandbees.org
SUMMARY:Baltimore City Beekeeping 101 March 8
DESCRIPTION:Baltimore Short Course\nMarch 8th\, March 22nd – 10am to 2pm\nHon’s Honey – 4710 Pennington Ave 2nd floor\, Baltimore\, MD 21226 \nApril 12th – 10am to 2pm\nFilbert Street Garden’s Beeyard – 1321 Filbert Street Baltimore\, Maryland 21226 \nThe course is taught by Mary Bammer. Mary Bammer is an an instructional designer for the Honey Bee Research and Extension Lab and apiculture educator. \n			\n				\n				\n				\n				\n				To Learn More and Sign Up \n			\n				Beekeeping 101
URL:https://www.centralmarylandbees.org/event/baltimore-city-beekeeping-101-march-8/
LOCATION:Baltimore County Agricultural Research Center\, 1114 Shawan Road\, Cockeysville\, MD\, 21230\, United States
CATEGORIES:Beekeeping 101
ATTACH;FMTTYPE=image/jpeg:https://www.centralmarylandbees.org/wp-content/uploads/2025/03/cmbees-city-beekeeping-101.jpg
GEO:39.5031932;-76.6856743
X-APPLE-STRUCTURED-LOCATION;VALUE=URI;X-ADDRESS=Baltimore County Agricultural Research Center 1114 Shawan Road Cockeysville MD 21230 United States;X-APPLE-RADIUS=500;X-TITLE=1114 Shawan Road:geo:-76.6856743,39.5031932
END:VEVENT
END:VCALENDAR