BEGIN:VCALENDAR
VERSION:2.0
PRODID:-//Central Maryland Beekeepers Association - ECPv6.15.20//NONSGML v1.0//EN
CALSCALE:GREGORIAN
METHOD:PUBLISH
X-ORIGINAL-URL:https://www.centralmarylandbees.org
X-WR-CALDESC:Events for Central Maryland Beekeepers Association
REFRESH-INTERVAL;VALUE=DURATION:PT1H
X-Robots-Tag:noindex
X-PUBLISHED-TTL:PT1H
BEGIN:VTIMEZONE
TZID:America/New_York
BEGIN:DAYLIGHT
TZOFFSETFROM:-0500
TZOFFSETTO:-0400
TZNAME:EDT
DTSTART:20240310T070000
END:DAYLIGHT
BEGIN:STANDARD
TZOFFSETFROM:-0400
TZOFFSETTO:-0500
TZNAME:EST
DTSTART:20241103T060000
END:STANDARD
BEGIN:DAYLIGHT
TZOFFSETFROM:-0500
TZOFFSETTO:-0400
TZNAME:EDT
DTSTART:20250309T070000
END:DAYLIGHT
BEGIN:STANDARD
TZOFFSETFROM:-0400
TZOFFSETTO:-0500
TZNAME:EST
DTSTART:20251102T060000
END:STANDARD
BEGIN:DAYLIGHT
TZOFFSETFROM:-0500
TZOFFSETTO:-0400
TZNAME:EDT
DTSTART:20260308T070000
END:DAYLIGHT
BEGIN:STANDARD
TZOFFSETFROM:-0400
TZOFFSETTO:-0500
TZNAME:EST
DTSTART:20261101T060000
END:STANDARD
END:VTIMEZONE
BEGIN:VEVENT
DTSTART;TZID=America/New_York:20250604T190000
DTEND;TZID=America/New_York:20250604T210000
DTSTAMP:20260420T062208
CREATED:20250523T183154Z
LAST-MODIFIED:20250523T183248Z
UID:10000238-1749063600-1749070800@www.centralmarylandbees.org
SUMMARY:Monthly Membership Meeting at Filbert Street Garden
DESCRIPTION:Join us in celebrating the grand opening of the Filbert Street Garden Honey House! \nCome see where the buzz is all about with a live honey harvest demonstration led by our expert beekeeper\, Charles DeBarber. You’ll get an up-close look at the tools\, techniques\, and magic behind harvesting honey—straight from the hive. \nWhether you’re a seasoned gardener\, curious about bees\, or just love honey\, this is a sweet way to learn and connect with your community. Don’t miss it!
URL:https://www.centralmarylandbees.org/event/june-membership-meeting/
LOCATION:Filbert Street Garden’s Beeyard\, 1321 Filbert Street\, Baltimore\, MD\, 21226\, United States
CATEGORIES:Members Meeting,Members Only
END:VEVENT
BEGIN:VEVENT
DTSTART;TZID=America/New_York:20250412T100000
DTEND;TZID=America/New_York:20250412T140000
DTSTAMP:20260420T062209
CREATED:20250304T204021Z
LAST-MODIFIED:20250311T185742Z
UID:10000374-1744452000-1744466400@www.centralmarylandbees.org
SUMMARY:Baltimore City Beekeeping 101 April 12
DESCRIPTION:Baltimore Short Course\nMarch 8th – 10am to 2pm\nHon’s Honey – 4710 Pennington Ave 2nd floor\, Baltimore\, MD 21226 \nMarch 22nd – 10am to 2pm\n3433 S Hanover St.\, Baltimore\, MD 21225 \nApril 12th – 2pm to 4pm\nFilbert Street Garden’s Beeyard – 1321 Filbert Street Baltimore\, Maryland 21226 \nThe course is taught by Mary Bammer. Mary Bammer is an an instructional designer for the Honey Bee Research and Extension Lab and apiculture educator.\n			\n				\n				\n				\n				\n				To Learn More and Sign Up \n			\n				Beekeeping 101
URL:https://www.centralmarylandbees.org/event/baltimore-city-beekeeping-101-april-12/
LOCATION:Filbert Street Garden’s Beeyard\, 1321 Filbert Street\, Baltimore\, MD\, 21226\, United States
CATEGORIES:Beekeeping 101
ATTACH;FMTTYPE=image/jpeg:https://www.centralmarylandbees.org/wp-content/uploads/2025/03/cmbees-city-beekeeping-101.jpg
END:VEVENT
END:VCALENDAR