BEGIN:VCALENDAR
VERSION:2.0
PRODID:-//Central Maryland Beekeepers Association - ECPv6.15.20//NONSGML v1.0//EN
CALSCALE:GREGORIAN
METHOD:PUBLISH
X-WR-CALNAME:Central Maryland Beekeepers Association
X-ORIGINAL-URL:https://www.centralmarylandbees.org
X-WR-CALDESC:Events for Central Maryland Beekeepers Association
REFRESH-INTERVAL;VALUE=DURATION:PT1H
X-Robots-Tag:noindex
X-PUBLISHED-TTL:PT1H
BEGIN:VTIMEZONE
TZID:America/New_York
BEGIN:DAYLIGHT
TZOFFSETFROM:-0500
TZOFFSETTO:-0400
TZNAME:EDT
DTSTART:20240310T070000
END:DAYLIGHT
BEGIN:STANDARD
TZOFFSETFROM:-0400
TZOFFSETTO:-0500
TZNAME:EST
DTSTART:20241103T060000
END:STANDARD
BEGIN:DAYLIGHT
TZOFFSETFROM:-0500
TZOFFSETTO:-0400
TZNAME:EDT
DTSTART:20250309T070000
END:DAYLIGHT
BEGIN:STANDARD
TZOFFSETFROM:-0400
TZOFFSETTO:-0500
TZNAME:EST
DTSTART:20251102T060000
END:STANDARD
BEGIN:DAYLIGHT
TZOFFSETFROM:-0500
TZOFFSETTO:-0400
TZNAME:EDT
DTSTART:20260308T070000
END:DAYLIGHT
BEGIN:STANDARD
TZOFFSETFROM:-0400
TZOFFSETTO:-0500
TZNAME:EST
DTSTART:20261101T060000
END:STANDARD
END:VTIMEZONE
BEGIN:VEVENT
DTSTART;TZID=America/New_York:20250322T100000
DTEND;TZID=America/New_York:20250322T140000
DTSTAMP:20260420T014516
CREATED:20250304T203122Z
LAST-MODIFIED:20250311T185524Z
UID:10000373-1742637600-1742652000@www.centralmarylandbees.org
SUMMARY:Baltimore City Beekeeping 101 March 22
DESCRIPTION:Baltimore Short Course\nMarch 8th – 10am to 2pm\nHon’s Honey – 4710 Pennington Ave 2nd floor\, Baltimore\, MD 21226 \nMarch 22nd – 10am to 2pm\n3433 S Hanover St.\, Baltimore\, MD 21225 \nApril 12th – 2pm to 4pm\nFilbert Street Garden’s Beeyard – 1321 Filbert Street Baltimore\, Maryland 21226 \nThe course is taught by Mary Bammer. Mary Bammer is an an instructional designer for the Honey Bee Research and Extension Lab and apiculture educator. \n			\n				\n				\n				\n				\n				To Learn More and Sign Up \n			\n				Beekeeping 101
URL:https://www.centralmarylandbees.org/event/baltimore-city-beekeeping-101-march-22/
LOCATION:Class Venue\, 3433 S Hanover Street\, Baltimire\, 21225\, United States
CATEGORIES:Beekeeping 101
ATTACH;FMTTYPE=image/jpeg:https://www.centralmarylandbees.org/wp-content/uploads/2025/03/cmbees-city-beekeeping-101.jpg
END:VEVENT
END:VCALENDAR