BEGIN:VCALENDAR
VERSION:2.0
PRODID:-//Central Maryland Beekeepers Association - ECPv6.15.20//NONSGML v1.0//EN
CALSCALE:GREGORIAN
METHOD:PUBLISH
X-ORIGINAL-URL:https://www.centralmarylandbees.org
X-WR-CALDESC:Events for Central Maryland Beekeepers Association
REFRESH-INTERVAL;VALUE=DURATION:PT1H
X-Robots-Tag:noindex
X-PUBLISHED-TTL:PT1H
BEGIN:VTIMEZONE
TZID:America/New_York
BEGIN:DAYLIGHT
TZOFFSETFROM:-0500
TZOFFSETTO:-0400
TZNAME:EDT
DTSTART:20230312T070000
END:DAYLIGHT
BEGIN:STANDARD
TZOFFSETFROM:-0400
TZOFFSETTO:-0500
TZNAME:EST
DTSTART:20231105T060000
END:STANDARD
BEGIN:DAYLIGHT
TZOFFSETFROM:-0500
TZOFFSETTO:-0400
TZNAME:EDT
DTSTART:20240310T070000
END:DAYLIGHT
BEGIN:STANDARD
TZOFFSETFROM:-0400
TZOFFSETTO:-0500
TZNAME:EST
DTSTART:20241103T060000
END:STANDARD
BEGIN:DAYLIGHT
TZOFFSETFROM:-0500
TZOFFSETTO:-0400
TZNAME:EDT
DTSTART:20250309T070000
END:DAYLIGHT
BEGIN:STANDARD
TZOFFSETFROM:-0400
TZOFFSETTO:-0500
TZNAME:EST
DTSTART:20251102T060000
END:STANDARD
BEGIN:DAYLIGHT
TZOFFSETFROM:-0500
TZOFFSETTO:-0400
TZNAME:EDT
DTSTART:20260308T070000
END:DAYLIGHT
BEGIN:STANDARD
TZOFFSETFROM:-0400
TZOFFSETTO:-0500
TZNAME:EST
DTSTART:20261101T060000
END:STANDARD
END:VTIMEZONE
BEGIN:VEVENT
DTSTART;TZID=America/New_York:20250205T190000
DTEND;TZID=America/New_York:20250205T210000
DTSTAMP:20260420T033929
CREATED:20240223T195058Z
LAST-MODIFIED:20250509T183920Z
UID:10000442-1738782000-1738789200@www.centralmarylandbees.org
SUMMARY:Monthly Membership Meeting
DESCRIPTION:Check back for topic and speaker bio. If you have a request or suggestion for a topic or speaker please CONTACT US.
URL:https://www.centralmarylandbees.org/event/monthly-membership-meeting/2025-02-05/
LOCATION:Baltimore County Agricultural Research Center\, 1114 Shawan Road\, Cockeysville\, MD\, 21030\, United States
CATEGORIES:Members Meeting,Members Only
GEO:@39.5031809;-76.6881956
X-APPLE-STRUCTURED-LOCATION;VALUE=URI;X-ADDRESS=Baltimore County Agricultural Research Center 1114 Shawan Road Cockeysville MD 21030 United States;X-APPLE-RADIUS=500;X-TITLE=1114 Shawan Road:geo:-76.6881956,@39.5031809
END:VEVENT
BEGIN:VEVENT
DTSTART;TZID=America/New_York:20250101T190000
DTEND;TZID=America/New_York:20250101T210000
DTSTAMP:20260420T033929
CREATED:20240223T195058Z
LAST-MODIFIED:20250509T183920Z
UID:10000441-1735758000-1735765200@www.centralmarylandbees.org
SUMMARY:Monthly Membership Meeting
DESCRIPTION:Check back for topic and speaker bio. If you have a request or suggestion for a topic or speaker please CONTACT US.
URL:https://www.centralmarylandbees.org/event/monthly-membership-meeting/2025-01-01/
LOCATION:Baltimore County Agricultural Research Center\, 1114 Shawan Road\, Cockeysville\, MD\, 21030\, United States
CATEGORIES:Members Meeting,Members Only
GEO:@39.5031809;-76.6881956
X-APPLE-STRUCTURED-LOCATION;VALUE=URI;X-ADDRESS=Baltimore County Agricultural Research Center 1114 Shawan Road Cockeysville MD 21030 United States;X-APPLE-RADIUS=500;X-TITLE=1114 Shawan Road:geo:-76.6881956,@39.5031809
END:VEVENT
BEGIN:VEVENT
DTSTART;TZID=America/New_York:20241204T190000
DTEND;TZID=America/New_York:20241204T210000
DTSTAMP:20260420T033929
CREATED:20240223T195058Z
LAST-MODIFIED:20250509T183920Z
UID:10000232-1733338800-1733346000@www.centralmarylandbees.org
SUMMARY:Monthly Membership Meeting
DESCRIPTION:Check back for topic and speaker bio. If you have a request or suggestion for a topic or speaker please CONTACT US.
URL:https://www.centralmarylandbees.org/event/monthly-membership-meeting/2024-12-04/
LOCATION:Baltimore County Agricultural Research Center\, 1114 Shawan Road\, Cockeysville\, MD\, 21030\, United States
CATEGORIES:Members Meeting,Members Only
GEO:@39.5031809;-76.6881956
X-APPLE-STRUCTURED-LOCATION;VALUE=URI;X-ADDRESS=Baltimore County Agricultural Research Center 1114 Shawan Road Cockeysville MD 21030 United States;X-APPLE-RADIUS=500;X-TITLE=1114 Shawan Road:geo:-76.6881956,@39.5031809
END:VEVENT
BEGIN:VEVENT
DTSTART;TZID=America/New_York:20241106T190000
DTEND;TZID=America/New_York:20241106T210000
DTSTAMP:20260420T033929
CREATED:20241028T140847Z
LAST-MODIFIED:20241107T210424Z
UID:10000231-1730919600-1730926800@www.centralmarylandbees.org
SUMMARY:Monthly Membership Meeting
DESCRIPTION:This month’s presentation will explore learning\, memory\, and the nature of animals “minds.”\nWe are thrilled to announce that Dr. Elizabeth Capaldi will be our guest speaker for the Central Maryland Beekeepers Association’s November meeting! Dr. Capaldi is a renowned researcher in the field of insect behavior and cognition\, specializing in the remarkable mental processes of bees.\n			\n			\n				\n				\n				\n				\n			\n				\n				\n				\n				\n				\n				\n				\n				\n				\n				\n				Her talk\, titled “The Fountain: Bee Behaviors\, Minds\, and King Solomon’s Ring\,” will provide an exciting update on the latest research exploring bee cognition. Dr. Capaldi will delve into cutting-edge findings on how bees perceive and interact with their environment\, revealing insights into their decision-making\, communication\, and problem-solving abilities. Attendees will gain a deeper understanding of bee behaviors through fascinating discoveries that shed light on the mysteries of the hive mind. \nDon’t miss this chance to learn from one of the foremost experts in bee cognition! We look forward to seeing you there for an evening of insight and inspiration \nIf you have a request or suggestion for a topic or speaker please CONTACT US.
URL:https://www.centralmarylandbees.org/event/monthly-membership-meeting-11-6/
LOCATION:Baltimore County Agricultural Research Center\, 1114 Shawan Road\, Cockeysville\, MD\, 21030\, United States
CATEGORIES:Members Meeting,Members Only
ATTACH;FMTTYPE=image/jpeg:https://www.centralmarylandbees.org/wp-content/uploads/2024/10/honeybee.jpg
GEO:@39.5031809;-76.6881956
X-APPLE-STRUCTURED-LOCATION;VALUE=URI;X-ADDRESS=Baltimore County Agricultural Research Center 1114 Shawan Road Cockeysville MD 21030 United States;X-APPLE-RADIUS=500;X-TITLE=1114 Shawan Road:geo:-76.6881956,@39.5031809
END:VEVENT
BEGIN:VEVENT
DTSTART;TZID=America/New_York:20241106T190000
DTEND;TZID=America/New_York:20241106T210000
DTSTAMP:20260420T033929
CREATED:20240223T195058Z
LAST-MODIFIED:20250509T183920Z
UID:10000440-1730919600-1730926800@www.centralmarylandbees.org
SUMMARY:Monthly Membership Meeting
DESCRIPTION:Check back for topic and speaker bio. If you have a request or suggestion for a topic or speaker please CONTACT US.
URL:https://www.centralmarylandbees.org/event/monthly-membership-meeting/2024-11-06/
LOCATION:Baltimore County Agricultural Research Center\, 1114 Shawan Road\, Cockeysville\, MD\, 21030\, United States
CATEGORIES:Members Meeting,Members Only
GEO:@39.5031809;-76.6881956
X-APPLE-STRUCTURED-LOCATION;VALUE=URI;X-ADDRESS=Baltimore County Agricultural Research Center 1114 Shawan Road Cockeysville MD 21030 United States;X-APPLE-RADIUS=500;X-TITLE=1114 Shawan Road:geo:-76.6881956,@39.5031809
END:VEVENT
BEGIN:VEVENT
DTSTART;TZID=America/New_York:20240904T190000
DTEND;TZID=America/New_York:20240904T210000
DTSTAMP:20260420T033929
CREATED:20240223T195058Z
LAST-MODIFIED:20250509T183920Z
UID:10000229-1725476400-1725483600@www.centralmarylandbees.org
SUMMARY:Monthly Membership Meeting
DESCRIPTION:Check back for topic and speaker bio. If you have a request or suggestion for a topic or speaker please CONTACT US.
URL:https://www.centralmarylandbees.org/event/monthly-membership-meeting/2024-09-04/
LOCATION:Baltimore County Agricultural Research Center\, 1114 Shawan Road\, Cockeysville\, MD\, 21030\, United States
CATEGORIES:Members Meeting,Members Only
GEO:@39.5031809;-76.6881956
X-APPLE-STRUCTURED-LOCATION;VALUE=URI;X-ADDRESS=Baltimore County Agricultural Research Center 1114 Shawan Road Cockeysville MD 21030 United States;X-APPLE-RADIUS=500;X-TITLE=1114 Shawan Road:geo:-76.6881956,@39.5031809
END:VEVENT
BEGIN:VEVENT
DTSTART;TZID=America/New_York:20240605T190000
DTEND;TZID=America/New_York:20240605T210000
DTSTAMP:20260420T033929
CREATED:20240515T134419Z
LAST-MODIFIED:20240515T135155Z
UID:10000228-1717614000-1717621200@www.centralmarylandbees.org
SUMMARY:Monthly Membership Meeting
DESCRIPTION:Making a New Queen for $20\n			\n				\n				\n				\n				\n				Description: Are you a 2nd or 3rd year beekeeper and want to make some queens for your own use or a few to sell? Queen rearing isn’t that hard and you can do it for under $20 in new supplies. Learn some simple tips and tricks to make the whole process easier skipping a lot of trial and error. \nBio: Russell Sprangel started keeping bees in 2017 with a hive setup and a new beekeeper’s course as a Christmas present\, from his wife Lisa\, which she totally regrets to this day. He is the past VP and President of CCBA and past Vice President of HCBA. He is an EAS Master Beekeeper\, certified in Ithaca\, NY in 2022. He teaches during the beekeeping calendar in the clubs training Apiary\, all any aspects of beekeeping students ask for. \n			\n				\n				\n				\n				\n				If you have a request or suggestion for a topic or speaker please CONTACT US.
URL:https://www.centralmarylandbees.org/event/june-monthly-membership-meeting/
LOCATION:Baltimore County Agricultural Research Center\, 1114 Shawan Road\, Cockeysville\, MD\, 21030\, United States
CATEGORIES:Members Meeting
ATTACH;FMTTYPE=image/jpeg:https://www.centralmarylandbees.org/wp-content/uploads/2024/05/thumbnail.jpg
GEO:@39.5031809;-76.6881956
X-APPLE-STRUCTURED-LOCATION;VALUE=URI;X-ADDRESS=Baltimore County Agricultural Research Center 1114 Shawan Road Cockeysville MD 21030 United States;X-APPLE-RADIUS=500;X-TITLE=1114 Shawan Road:geo:-76.6881956,@39.5031809
END:VEVENT
BEGIN:VEVENT
DTSTART;TZID=America/New_York:20240507T190000
DTEND;TZID=America/New_York:20240507T210000
DTSTAMP:20260420T033929
CREATED:20240401T173613Z
LAST-MODIFIED:20240401T174431Z
UID:10000163-1715108400-1715115600@www.centralmarylandbees.org
SUMMARY:Monthly Membership Meeting
DESCRIPTION:Speaker: Elaine Storm\nAs a former part-time school teacher\, I have a passion for learning and for teaching. We have a small farm and although none of our 7 grandchildren have yet been interested in working the honeybee hives\, they do love petting all the other animals we’ve got. \nMy husband and I have been working bees for about 15 years. Although my husband is the main beekeeper\, I do help work the hives\, have attended beekeeping courses and have the hands-on experience. Three years ago\, I attended the Eastern Apicultural Society’s Bee Conference\, where I began my Apitherapy journey. Since then\, I have attended more Apitherapy conferences and have become passionate about how all the products from the hive can benefit us in health and healing ways. From pollen\, honey\, and propolis to royal jelly and drone brood homogenate – the bees can help keep not only their own hives healthy but share their products with us so we might also gain some health benefits. \nFrom making tinctures\, to bee sting therapy\, to collecting recipes for healing\, I’m passionate about it all! My goal is to learn enough about Apitherapy to help relieve pain that people may be suffering from and to do that in an easy\, natural way. \nAs a beekeeping community\, we are able to have multiple medicine cabinets in our own backyards!\n			\n				\n				\n				\n				\n				If you have a request or suggestion for a topic or speaker please CONTACT US.
URL:https://www.centralmarylandbees.org/event/monthly-membership-meeting-may/
LOCATION:Baltimore County Agricultural Research Center\, 1114 Shawan Road\, Cockeysville\, MD\, 21030\, United States
CATEGORIES:Members Meeting
ATTACH;FMTTYPE=image/jpeg:https://www.centralmarylandbees.org/wp-content/uploads/2024/04/cmba-elaine-storm.jpg
GEO:@39.5031809;-76.6881956
X-APPLE-STRUCTURED-LOCATION;VALUE=URI;X-ADDRESS=Baltimore County Agricultural Research Center 1114 Shawan Road Cockeysville MD 21030 United States;X-APPLE-RADIUS=500;X-TITLE=1114 Shawan Road:geo:-76.6881956,@39.5031809
END:VEVENT
BEGIN:VEVENT
DTSTART;TZID=America/New_York:20240402T190000
DTEND;TZID=America/New_York:20240402T210000
DTSTAMP:20260420T033929
CREATED:20240401T133427Z
LAST-MODIFIED:20240401T150042Z
UID:10000162-1712084400-1712091600@www.centralmarylandbees.org
SUMMARY:Monthly Membership Meeting
DESCRIPTION:Speaker:  Charles DeBarber\nTopic: “Swarms\, Cutouts & Bait Boxes”\nCharles DeBarber is the Animal Husbandry Coordinator at the Filbert Street Garden in Baltimore City. He is President of the Filbert Street Garden Bee Club and manages the largest beeyard in the City of Baltimore. Charles has been keeping bees for 9 years and is an avid local swarm catcher. He has traveled extensively meeting urban beekeepers from Kyoto to Cozumel. Mr. DeBarber loves to learn about the history of early industrial beekeeping and is an avid collector of antique and vintage equipment.\n			\n			\n				\n				\n				\n				\n			\n				\n				\n				\n				\n				\n				\n				\n				\n				\n				\n				If you have a request or suggestion for a topic or speaker please CONTACT US.
URL:https://www.centralmarylandbees.org/event/monthly-membership-meeting-2/
LOCATION:Baltimore County Agricultural Research Center\, 1114 Shawan Road\, Cockeysville\, MD\, 21030\, United States
CATEGORIES:Members Meeting
ATTACH;FMTTYPE=image/jpeg:https://www.centralmarylandbees.org/wp-content/uploads/2024/04/cmba-debarber.jpeg
GEO:@39.5031809;-76.6881956
X-APPLE-STRUCTURED-LOCATION;VALUE=URI;X-ADDRESS=Baltimore County Agricultural Research Center 1114 Shawan Road Cockeysville MD 21030 United States;X-APPLE-RADIUS=500;X-TITLE=1114 Shawan Road:geo:-76.6881956,@39.5031809
END:VEVENT
BEGIN:VEVENT
DTSTART;TZID=America/New_York:20240309T090000
DTEND;TZID=America/New_York:20240309T123000
DTSTAMP:20260420T033929
CREATED:20240223T201514Z
LAST-MODIFIED:20240223T201726Z
UID:10000224-1709974800-1709987400@www.centralmarylandbees.org
SUMMARY:Beekeeping 101 Course
DESCRIPTION:Beekeeping 101 Short Course will be held in-person only\, at the Ag Center. Advanced registration required \nCourse Information and Registration
URL:https://www.centralmarylandbees.org/event/beekeeping-101-course/2024-03-09/
LOCATION:Baltimore County Agricultural Research Center\, 1114 Shawan Road\, Cockeysville\, MD\, 21030\, United States
GEO:@39.5031809;-76.6881956
X-APPLE-STRUCTURED-LOCATION;VALUE=URI;X-ADDRESS=Baltimore County Agricultural Research Center 1114 Shawan Road Cockeysville MD 21030 United States;X-APPLE-RADIUS=500;X-TITLE=1114 Shawan Road:geo:-76.6881956,@39.5031809
END:VEVENT
BEGIN:VEVENT
DTSTART;TZID=America/New_York:20240302T090000
DTEND;TZID=America/New_York:20240302T123000
DTSTAMP:20260420T033929
CREATED:20240223T201514Z
LAST-MODIFIED:20240223T201726Z
UID:10000223-1709370000-1709382600@www.centralmarylandbees.org
SUMMARY:Beekeeping 101 Course
DESCRIPTION:Beekeeping 101 Short Course will be held in-person only\, at the Ag Center. Advanced registration required \nCourse Information and Registration
URL:https://www.centralmarylandbees.org/event/beekeeping-101-course/2024-03-02/
LOCATION:Baltimore County Agricultural Research Center\, 1114 Shawan Road\, Cockeysville\, MD\, 21030\, United States
GEO:@39.5031809;-76.6881956
X-APPLE-STRUCTURED-LOCATION;VALUE=URI;X-ADDRESS=Baltimore County Agricultural Research Center 1114 Shawan Road Cockeysville MD 21030 United States;X-APPLE-RADIUS=500;X-TITLE=1114 Shawan Road:geo:-76.6881956,@39.5031809
END:VEVENT
BEGIN:VEVENT
DTSTART;TZID=America/New_York:20240224T090000
DTEND;TZID=America/New_York:20240224T123000
DTSTAMP:20260420T033929
CREATED:20240223T201514Z
LAST-MODIFIED:20240223T201726Z
UID:10000222-1708765200-1708777800@www.centralmarylandbees.org
SUMMARY:Beekeeping 101 Course
DESCRIPTION:Beekeeping 101 Short Course will be held in-person only\, at the Ag Center. Advanced registration required \nCourse Information and Registration
URL:https://www.centralmarylandbees.org/event/beekeeping-101-course/2024-02-24/
LOCATION:Baltimore County Agricultural Research Center\, 1114 Shawan Road\, Cockeysville\, MD\, 21030\, United States
GEO:@39.5031809;-76.6881956
X-APPLE-STRUCTURED-LOCATION;VALUE=URI;X-ADDRESS=Baltimore County Agricultural Research Center 1114 Shawan Road Cockeysville MD 21030 United States;X-APPLE-RADIUS=500;X-TITLE=1114 Shawan Road:geo:-76.6881956,@39.5031809
END:VEVENT
BEGIN:VEVENT
DTSTART;TZID=America/New_York:20240223T080000
DTEND;TZID=America/New_York:20240223T170000
DTSTAMP:20260420T033929
CREATED:20240223T201514Z
LAST-MODIFIED:20240223T201726Z
UID:10000221-1708675200-1708707600@www.centralmarylandbees.org
SUMMARY:Beekeeping 101 Course
DESCRIPTION:Beekeeping 101 Short Course will be held in-person only\, at the Ag Center. Advanced registration required \nCourse Information and Registration
URL:https://www.centralmarylandbees.org/event/beekeeping-101-course/2024-02-23/
LOCATION:Baltimore County Agricultural Research Center\, 1114 Shawan Road\, Cockeysville\, MD\, 21030\, United States
GEO:@39.5031809;-76.6881956
X-APPLE-STRUCTURED-LOCATION;VALUE=URI;X-ADDRESS=Baltimore County Agricultural Research Center 1114 Shawan Road Cockeysville MD 21030 United States;X-APPLE-RADIUS=500;X-TITLE=1114 Shawan Road:geo:-76.6881956,@39.5031809
END:VEVENT
END:VCALENDAR