BEGIN:VCALENDAR
VERSION:2.0
PRODID:-//Central Maryland Beekeepers Association - ECPv6.15.20//NONSGML v1.0//EN
CALSCALE:GREGORIAN
METHOD:PUBLISH
X-WR-CALNAME:Central Maryland Beekeepers Association
X-ORIGINAL-URL:https://www.centralmarylandbees.org
X-WR-CALDESC:Events for Central Maryland Beekeepers Association
REFRESH-INTERVAL;VALUE=DURATION:PT1H
X-Robots-Tag:noindex
X-PUBLISHED-TTL:PT1H
BEGIN:VTIMEZONE
TZID:America/New_York
BEGIN:DAYLIGHT
TZOFFSETFROM:-0500
TZOFFSETTO:-0400
TZNAME:EDT
DTSTART:20230312T070000
END:DAYLIGHT
BEGIN:STANDARD
TZOFFSETFROM:-0400
TZOFFSETTO:-0500
TZNAME:EST
DTSTART:20231105T060000
END:STANDARD
BEGIN:DAYLIGHT
TZOFFSETFROM:-0500
TZOFFSETTO:-0400
TZNAME:EDT
DTSTART:20240310T070000
END:DAYLIGHT
BEGIN:STANDARD
TZOFFSETFROM:-0400
TZOFFSETTO:-0500
TZNAME:EST
DTSTART:20241103T060000
END:STANDARD
BEGIN:DAYLIGHT
TZOFFSETFROM:-0500
TZOFFSETTO:-0400
TZNAME:EDT
DTSTART:20250309T070000
END:DAYLIGHT
BEGIN:STANDARD
TZOFFSETFROM:-0400
TZOFFSETTO:-0500
TZNAME:EST
DTSTART:20251102T060000
END:STANDARD
END:VTIMEZONE
BEGIN:VEVENT
DTSTART;TZID=America/New_York:20240803T090000
DTEND;TZID=America/New_York:20240803T170000
DTSTAMP:20260420T214410
CREATED:20240805T145210Z
LAST-MODIFIED:20240805T145248Z
UID:10000293-1722675600-1722704400@www.centralmarylandbees.org
SUMMARY:Hereford Junior Farm Fair
DESCRIPTION:Saturday\, August 3\, 2024 from 9:00 am to 5:00 pm\nThe Fair is held at the Baltimore County Agriculture Center\, 1114 Shawan Rd in Cockeysville/Hunt Valley\, MD.  Children of Baltimore County are showing their indoor exhibits and their livestock.\nCentral Maryland Beekeepers Association will be providing an educational exhibit explaining the different aspects of beekeeping\, an important part of agriculture. This Fair is open to all spectators\, there is no admission fee.
URL:https://www.centralmarylandbees.org/event/hereford-junior-farm-fair/
LOCATION:Baltimore County Agricultural Research Center\, 1114 Shawan Road\, Cockeysville\, MD\, 21230\, United States
CATEGORIES:Fairs
ATTACH;FMTTYPE=image/jpeg:https://www.centralmarylandbees.org/wp-content/uploads/2024/08/Hereford-Junior-Farm-Fair.jpg
GEO:39.5031932;-76.6856743
X-APPLE-STRUCTURED-LOCATION;VALUE=URI;X-ADDRESS=Baltimore County Agricultural Research Center 1114 Shawan Road Cockeysville MD 21230 United States;X-APPLE-RADIUS=500;X-TITLE=1114 Shawan Road:geo:-76.6856743,39.5031932
END:VEVENT
END:VCALENDAR